BEGIN:VCALENDAR
VERSION:2.0
PRODID:-//hacksw/handcal//NONSGML v1.0//EN
CALSCALE:GREGORIAN
BEGIN:VEVENT
DTSTART:20180501T093000Z
DTEND:20180501T120000Z
UID:e19326
DTSTAMP:20260419T211001Z
LOCATION:Arthur and Rochelle Belfer Building for Biomedical Research
DESCRIPTION:Insulin action and insulin resistance in brain in control of mood and neurobehavior\; CNS-dependent control of metabolism
SUMMARY:Insulin action and insulin resistance in brain in control of mood and neurobehavior\; CNS-dependent control of metabolism
END:VEVENT
END:VCALENDAR