BEGIN:VCALENDAR
VERSION:2.0
PRODID:-//hacksw/handcal//NONSGML v1.0//EN
CALSCALE:GREGORIAN
BEGIN:VEVENT
DTSTART:20180424T083000Z
DTEND:20180424T083000Z
UID:e19376
DTSTAMP:20260420T120009Z
LOCATION:Nella and Leon Benoziyo Building for Biological Sciences
DESCRIPTION:Gardens as a microcosm of global change
SUMMARY:Gardens as a microcosm of global change
END:VEVENT
END:VCALENDAR