BEGIN:VCALENDAR
VERSION:2.0
PRODID:-//hacksw/handcal//NONSGML v1.0//EN
CALSCALE:GREGORIAN
BEGIN:VEVENT
DTSTART:20180429T080000Z
DTEND:20180429T080000Z
UID:e19380
DTSTAMP:20260420T003339Z
LOCATION:Helen and Milton A. Kimmelman Building
DESCRIPTION:'Dynamic hydrogen-bond networks of proton transfer systems'
SUMMARY:'Dynamic hydrogen-bond networks of proton transfer systems'
END:VEVENT
END:VCALENDAR