BEGIN:VCALENDAR
VERSION:2.0
PRODID:-//hacksw/handcal//NONSGML v1.0//EN
CALSCALE:GREGORIAN
BEGIN:VEVENT
DTSTART:20180423T080000Z
DTEND:20180423T080000Z
UID:e19382
DTSTAMP:20260420T050126Z
LOCATION:Raoul and Graziella de Picciotto Building for Scientific and Technical Support
DESCRIPTION:Student Fly Club 
SUMMARY:Student Fly Club 
END:VEVENT
END:VCALENDAR