BEGIN:VCALENDAR
VERSION:2.0
PRODID:-//hacksw/handcal//NONSGML v1.0//EN
CALSCALE:GREGORIAN
BEGIN:VEVENT
DTSTART:20180501T113000Z
DTEND:20180501T123000Z
UID:e19394
DTSTAMP:20260419T193518Z
LOCATION:Gerhard M.J. Schmidt Lecture Hall
DESCRIPTION:G-INCPM Special Seminar - Dr. Daniel Liber\, Business Development Manager\, Automation\, Takara Bio Europe - "SMARTer ICELL8: The Open Platform for Single-Cell Genomics"
SUMMARY:G-INCPM Special Seminar - Dr. Daniel Liber\, Business Development Manager\, Automation\, Takara Bio Europe - "SMARTer ICELL8: The Open Platform for Single-Cell Genomics"
END:VEVENT
END:VCALENDAR