BEGIN:VCALENDAR
VERSION:2.0
PRODID:-//hacksw/handcal//NONSGML v1.0//EN
CALSCALE:GREGORIAN
BEGIN:VEVENT
DTSTART:20180531T110000Z
DTEND:20180531T120000Z
UID:e19396
DTSTAMP:20260419T193520Z
LOCATION:Max and Lillian Candiotty Building
DESCRIPTION:Lung cancer and HER family proteins 
SUMMARY:Lung cancer and HER family proteins 
END:VEVENT
END:VCALENDAR