BEGIN:VCALENDAR
VERSION:2.0
PRODID:-//hacksw/handcal//NONSGML v1.0//EN
CALSCALE:GREGORIAN
BEGIN:VEVENT
DTSTART:20180506T070000Z
DTEND:20180506T080000Z
UID:e19400
DTSTAMP:20260419T193528Z
LOCATION:Perlman Chemical Sciences Building
DESCRIPTION:Computational Studies of Novel Two-Dimensional Materials and Their Heterostructures
SUMMARY:Computational Studies of Novel Two-Dimensional Materials and Their Heterostructures
END:VEVENT
END:VCALENDAR