BEGIN:VCALENDAR
VERSION:2.0
PRODID:-//hacksw/handcal//NONSGML v1.0//EN
CALSCALE:GREGORIAN
BEGIN:VEVENT
DTSTART:20180430T110000Z
DTEND:20180430T120000Z
UID:e19410
DTSTAMP:20260419T193526Z
LOCATION:Perlman Chemical Sciences Building
DESCRIPTION:Use of Heterointerfaces to Control Radiation Damage and Thermal Transport in Multiphase Ceramics
SUMMARY:Use of Heterointerfaces to Control Radiation Damage and Thermal Transport in Multiphase Ceramics
END:VEVENT
END:VCALENDAR