BEGIN:VCALENDAR
VERSION:2.0
PRODID:-//hacksw/handcal//NONSGML v1.0//EN
CALSCALE:GREGORIAN
BEGIN:VEVENT
DTSTART:20180610T110000Z
DTEND:20180610T120000Z
UID:e19438
DTSTAMP:20260420T155038Z
LOCATION:Max and Lillian Candiotty Building
DESCRIPTION:CRISPRing the Dark Matter of the Genome
SUMMARY:CRISPRing the Dark Matter of the Genome
END:VEVENT
END:VCALENDAR