BEGIN:VCALENDAR
VERSION:2.0
PRODID:-//hacksw/handcal//NONSGML v1.0//EN
CALSCALE:GREGORIAN
BEGIN:VEVENT
DTSTART:20180522T083000Z
DTEND:20180522T083000Z
UID:e19446
DTSTAMP:20260419T224757Z
LOCATION:Nella and Leon Benoziyo Building for Biological Sciences
DESCRIPTION:Effect of land-use change on ecosystemal carbon and nitrogen cycles in mesic climate
SUMMARY:Effect of land-use change on ecosystemal carbon and nitrogen cycles in mesic climate
END:VEVENT
END:VCALENDAR