BEGIN:VCALENDAR
VERSION:2.0
PRODID:-//hacksw/handcal//NONSGML v1.0//EN
CALSCALE:GREGORIAN
BEGIN:VEVENT
DTSTART:20180515T110000Z
DTEND:20180515T110000Z
UID:e19458
DTSTAMP:20260419T185628Z
LOCATION:Arthur and Rochelle Belfer Building for Biomedical Research
DESCRIPTION:Accelerating bio discovery with machine learning
SUMMARY:Accelerating bio discovery with machine learning
END:VEVENT
END:VCALENDAR