BEGIN:VCALENDAR
VERSION:2.0
PRODID:-//hacksw/handcal//NONSGML v1.0//EN
CALSCALE:GREGORIAN
BEGIN:VEVENT
DTSTART:20180513T080000Z
DTEND:20180513T080000Z
UID:e19464
DTSTAMP:20260419T193529Z
LOCATION:Sussman Family Building for Environmental Sciences
DESCRIPTION:Understanding geochemical information in biomass:  An example with coccolithophores and CO2
SUMMARY:Understanding geochemical information in biomass:  An example with coccolithophores and CO2
END:VEVENT
END:VCALENDAR