BEGIN:VCALENDAR
VERSION:2.0
PRODID:-//hacksw/handcal//NONSGML v1.0//EN
CALSCALE:GREGORIAN
BEGIN:VEVENT
DTSTART:20180514T110000Z
DTEND:20180514T110000Z
UID:e19494
DTSTAMP:20260419T185823Z
LOCATION:Arthur and Rochelle Belfer Building for Biomedical Research
DESCRIPTION:Cyagen technologies
SUMMARY:Cyagen technologies
END:VEVENT
END:VCALENDAR