BEGIN:VCALENDAR
VERSION:2.0
PRODID:-//hacksw/handcal//NONSGML v1.0//EN
CALSCALE:GREGORIAN
BEGIN:VEVENT
DTSTART:20180515T070000Z
DTEND:20180515T083000Z
UID:e19496
DTSTAMP:20260419T185422Z
LOCATION:Raoul and Graziella de Picciotto Building for Scientific and Technical Support
DESCRIPTION:Leica Biosystems
SUMMARY:Leica Biosystems
END:VEVENT
END:VCALENDAR