BEGIN:VCALENDAR
VERSION:2.0
PRODID:-//hacksw/handcal//NONSGML v1.0//EN
CALSCALE:GREGORIAN
BEGIN:VEVENT
DTSTART:20180517T080000Z
DTEND:20180517T100000Z
UID:e19508
DTSTAMP:20260419T224803Z
LOCATION:Max and Lillian Candiotty Building
DESCRIPTION:Hereditary Genetics
SUMMARY:Hereditary Genetics
END:VEVENT
END:VCALENDAR