BEGIN:VCALENDAR
VERSION:2.0
PRODID:-//hacksw/handcal//NONSGML v1.0//EN
CALSCALE:GREGORIAN
BEGIN:VEVENT
DTSTART:20180603T080000Z
DTEND:20180603T090000Z
UID:e19532
DTSTAMP:20260419T193523Z
LOCATION:Perlman Chemical Sciences Building
DESCRIPTION:The multi-scale structure of chromatin in the nucleus
SUMMARY:The multi-scale structure of chromatin in the nucleus
END:VEVENT
END:VCALENDAR