BEGIN:VCALENDAR
VERSION:2.0
PRODID:-//hacksw/handcal//NONSGML v1.0//EN
CALSCALE:GREGORIAN
BEGIN:VEVENT
DTSTART:20180530T080000Z
DTEND:20180530T090000Z
UID:e19534
DTSTAMP:20260419T193516Z
LOCATION:Perlman Chemical Sciences Building
DESCRIPTION:Nano safety and Education
SUMMARY:Nano safety and Education
END:VEVENT
END:VCALENDAR