BEGIN:VCALENDAR
VERSION:2.0
PRODID:-//hacksw/handcal//NONSGML v1.0//EN
CALSCALE:GREGORIAN
BEGIN:VEVENT
DTSTART:20180621T080000Z
DTEND:20180621T090000Z
UID:e19536
DTSTAMP:20260420T115914Z
LOCATION:Helen and Milton A. Kimmelman Building
DESCRIPTION:New era in cryo electron microscopy reflected in  studies of a bacteriophage phage at near atomic resolution
SUMMARY:New era in cryo electron microscopy reflected in  studies of a bacteriophage phage at near atomic resolution
END:VEVENT
END:VCALENDAR