BEGIN:VCALENDAR
VERSION:2.0
PRODID:-//hacksw/handcal//NONSGML v1.0//EN
CALSCALE:GREGORIAN
BEGIN:VEVENT
DTSTART:20180531T063000Z
DTEND:20180531T073000Z
UID:e19540
DTSTAMP:20260419T193516Z
LOCATION:Gerhard M.J. Schmidt Lecture Hall
DESCRIPTION:GlucoCEST - From Quantification to numerical optimization and in vivo application
SUMMARY:GlucoCEST - From Quantification to numerical optimization and in vivo application
END:VEVENT
END:VCALENDAR