BEGIN:VCALENDAR
VERSION:2.0
PRODID:-//hacksw/handcal//NONSGML v1.0//EN
CALSCALE:GREGORIAN
BEGIN:VEVENT
DTSTART:20180605T083000Z
DTEND:20180605T083000Z
UID:e19558
DTSTAMP:20260419T211004Z
LOCATION:Nella and Leon Benoziyo Building for Biological Sciences
DESCRIPTION:Foraminifera as bioindicators of marine environments
SUMMARY:Foraminifera as bioindicators of marine environments
END:VEVENT
END:VCALENDAR