BEGIN:VCALENDAR
VERSION:2.0
PRODID:-//hacksw/handcal//NONSGML v1.0//EN
CALSCALE:GREGORIAN
BEGIN:VEVENT
DTSTART:20180611T070000Z
DTEND:20180611T083000Z
UID:e19562
DTSTAMP:20260420T045926Z
LOCATION:Nella and Leon Benoziyo Building for Biological Sciences
DESCRIPTION:The End of The End:  E3 ubiquitin ligases shape the proteome through recognition of C-terminal degrons.
SUMMARY:The End of The End:  E3 ubiquitin ligases shape the proteome through recognition of C-terminal degrons.
END:VEVENT
END:VCALENDAR