BEGIN:VCALENDAR
VERSION:2.0
PRODID:-//hacksw/handcal//NONSGML v1.0//EN
CALSCALE:GREGORIAN
BEGIN:VEVENT
DTSTART:20180626T083000Z
DTEND:20180626T093000Z
UID:e19630
DTSTAMP:20260419T182221Z
LOCATION:Nella and Leon Benoziyo Building for Biological Sciences
DESCRIPTION:FOOD EVOLUTION - FEAST ON FACTS
SUMMARY:FOOD EVOLUTION - FEAST ON FACTS
END:VEVENT
END:VCALENDAR