BEGIN:VCALENDAR
VERSION:2.0
PRODID:-//hacksw/handcal//NONSGML v1.0//EN
CALSCALE:GREGORIAN
BEGIN:VEVENT
DTSTART:20190303T050000Z
DTEND:20190303T130000Z
UID:e19700
DTSTAMP:20260420T120010Z
LOCATION:The David Lopatie Conference Centre
DESCRIPTION:I-CORE final meeting -The end of the quantum universe
SUMMARY:I-CORE final meeting -The end of the quantum universe
END:VEVENT
END:VCALENDAR