BEGIN:VCALENDAR
VERSION:2.0
PRODID:-//hacksw/handcal//NONSGML v1.0//EN
CALSCALE:GREGORIAN
BEGIN:VEVENT
DTSTART:20181016T110000Z
DTEND:20181016T120000Z
UID:e19730
DTSTAMP:20260421T085326Z
LOCATION:Helen and Milton A. Kimmelman Building
DESCRIPTION:“Beauty and Benefits of cryo-EM\; Resolving the 3D structure of the Type VII secretion system in Mycobacterium tuberculosis”
SUMMARY:“Beauty and Benefits of cryo-EM\; Resolving the 3D structure of the Type VII secretion system in Mycobacterium tuberculosis”
END:VEVENT
END:VCALENDAR