BEGIN:VCALENDAR
VERSION:2.0
PRODID:-//hacksw/handcal//NONSGML v1.0//EN
CALSCALE:GREGORIAN
BEGIN:VEVENT
DTSTART:20190429T050000Z
DTEND:20190430T050000Z
UID:e19740
DTSTAMP:20260421T213537Z
LOCATION:Max and Lillian Candiotty Building
DESCRIPTION:Cellular Signaling in Health and Disease
SUMMARY:Cellular Signaling in Health and Disease
END:VEVENT
END:VCALENDAR