BEGIN:VCALENDAR
VERSION:2.0
PRODID:-//hacksw/handcal//NONSGML v1.0//EN
CALSCALE:GREGORIAN
BEGIN:VEVENT
DTSTART:20191023T050000Z
DTEND:20191024T150000Z
UID:e19742
DTSTAMP:20260421T174028Z
LOCATION:The David Lopatie Conference Centre
DESCRIPTION:Contemporary Crystal Engineering and Solid-State Chemistry: Symposium commemorating G. M. J. Schmidt's 100th birthday anniversary
SUMMARY:Contemporary Crystal Engineering and Solid-State Chemistry: Symposium commemorating G. M. J. Schmidt's 100th birthday anniversary
END:VEVENT
END:VCALENDAR