BEGIN:VCALENDAR
VERSION:2.0
PRODID:-//hacksw/handcal//NONSGML v1.0//EN
CALSCALE:GREGORIAN
BEGIN:VEVENT
DTSTART:20181129T110000Z
DTEND:20181129T120000Z
UID:e19756
DTSTAMP:20260419T231650Z
LOCATION:Max and Lillian Candiotty Building
DESCRIPTION:Transgenerational inheritance of small RNAs in C.elegans
SUMMARY:Transgenerational inheritance of small RNAs in C.elegans
END:VEVENT
END:VCALENDAR