BEGIN:VCALENDAR
VERSION:2.0
PRODID:-//hacksw/handcal//NONSGML v1.0//EN
CALSCALE:GREGORIAN
BEGIN:VEVENT
DTSTART:20190203T050000Z
DTEND:20190203T133000Z
UID:e19764
DTSTAMP:20260419T100427Z
LOCATION:The David Lopatie Conference Centre
DESCRIPTION:Israel AGT day
SUMMARY:Israel AGT day
END:VEVENT
END:VCALENDAR