BEGIN:VCALENDAR
VERSION:2.0
PRODID:-//hacksw/handcal//NONSGML v1.0//EN
CALSCALE:GREGORIAN
BEGIN:VEVENT
DTSTART:20190204T080000Z
DTEND:20190204T091500Z
UID:e19774
DTSTAMP:20260419T100439Z
LOCATION:Dolfi and Lola Ebner Auditorium
DESCRIPTION:"Palladium-Catalyzed Carbon-Heteroatom Bond-Forming Reactions for the Functionalization of Molecules Big and Small"
SUMMARY:"Palladium-Catalyzed Carbon-Heteroatom Bond-Forming Reactions for the Functionalization of Molecules Big and Small"
END:VEVENT
END:VCALENDAR