BEGIN:VCALENDAR
VERSION:2.0
PRODID:-//hacksw/handcal//NONSGML v1.0//EN
CALSCALE:GREGORIAN
BEGIN:VEVENT
DTSTART:20180905T080000Z
DTEND:20180905T080000Z
UID:e19780
DTSTAMP:20260419T185447Z
LOCATION:Nella and Leon Benoziyo Building for Biological Sciences
DESCRIPTION:Condensation of the ARF19 transcription factor regulates its activity
SUMMARY:Condensation of the ARF19 transcription factor regulates its activity
END:VEVENT
END:VCALENDAR