BEGIN:VCALENDAR
VERSION:2.0
PRODID:-//hacksw/handcal//NONSGML v1.0//EN
CALSCALE:GREGORIAN
BEGIN:VEVENT
DTSTART:20180830T070000Z
DTEND:20180830T070000Z
UID:e19786
DTSTAMP:20260419T182222Z
LOCATION:Wolfson Building for Biological Research
DESCRIPTION:PhD Defense Seminar- “The non-cell-autonomous function of p53 in the liver ״
SUMMARY:PhD Defense Seminar- “The non-cell-autonomous function of p53 in the liver ״
END:VEVENT
END:VCALENDAR