BEGIN:VCALENDAR
VERSION:2.0
PRODID:-//hacksw/handcal//NONSGML v1.0//EN
CALSCALE:GREGORIAN
BEGIN:VEVENT
DTSTART:20181011T110000Z
DTEND:20181011T120000Z
UID:e19790
DTSTAMP:20260420T122408Z
LOCATION:Max and Lillian Candiotty Building
DESCRIPTION:Understanding the crosstalk between RNA processing and signal transduction
SUMMARY:Understanding the crosstalk between RNA processing and signal transduction
END:VEVENT
END:VCALENDAR