BEGIN:VCALENDAR
VERSION:2.0
PRODID:-//hacksw/handcal//NONSGML v1.0//EN
CALSCALE:GREGORIAN
BEGIN:VEVENT
DTSTART:20181022T110000Z
DTEND:20181022T120000Z
UID:e19800
DTSTAMP:20260421T060005Z
LOCATION:Max and Lillian Candiotty Building
DESCRIPTION:Targeting DNA and RNA repeats responsible for neurological disorders by small organic molecules
SUMMARY:Targeting DNA and RNA repeats responsible for neurological disorders by small organic molecules
END:VEVENT
END:VCALENDAR