BEGIN:VCALENDAR
VERSION:2.0
PRODID:-//hacksw/handcal//NONSGML v1.0//EN
CALSCALE:GREGORIAN
BEGIN:VEVENT
DTSTART:20181015T110000Z
DTEND:20181015T120000Z
UID:e19834
DTSTAMP:20260419T182243Z
LOCATION:Max and Lillian Candiotty Building
DESCRIPTION:The transmembrane proteins LRIG1 and LRIG2 differentially affect skin carcinogenesis 
SUMMARY:The transmembrane proteins LRIG1 and LRIG2 differentially affect skin carcinogenesis 
END:VEVENT
END:VCALENDAR