BEGIN:VCALENDAR
VERSION:2.0
PRODID:-//hacksw/handcal//NONSGML v1.0//EN
CALSCALE:GREGORIAN
BEGIN:VEVENT
DTSTART:20181011T090000Z
DTEND:20181011T100000Z
UID:e19848
DTSTAMP:20260419T231727Z
LOCATION:Arthur and Rochelle Belfer Building for Biomedical Research
DESCRIPTION:Seminar for thesis defense
SUMMARY:Seminar for thesis defense
END:VEVENT
END:VCALENDAR