BEGIN:VCALENDAR
VERSION:2.0
PRODID:-//hacksw/handcal//NONSGML v1.0//EN
CALSCALE:GREGORIAN
BEGIN:VEVENT
DTSTART:20181118T080000Z
DTEND:20181118T080000Z
UID:e19858
DTSTAMP:20260420T153405Z
LOCATION:Sussman Family Building for Environmental Sciences
DESCRIPTION:The role of ocean circulation in the climate’s response to anthropogenic emissions
SUMMARY:The role of ocean circulation in the climate’s response to anthropogenic emissions
END:VEVENT
END:VCALENDAR