BEGIN:VCALENDAR
VERSION:2.0
PRODID:-//hacksw/handcal//NONSGML v1.0//EN
CALSCALE:GREGORIAN
BEGIN:VEVENT
DTSTART:20181016T080000Z
DTEND:20181016T090000Z
UID:e19872
DTSTAMP:20260419T182243Z
LOCATION:Helen and Milton A. Kimmelman Building
DESCRIPTION:Expeditious Synthesis of Bacterial Glycoconjugates
SUMMARY:Expeditious Synthesis of Bacterial Glycoconjugates
END:VEVENT
END:VCALENDAR