BEGIN:VCALENDAR
VERSION:2.0
PRODID:-//hacksw/handcal//NONSGML v1.0//EN
CALSCALE:GREGORIAN
BEGIN:VEVENT
DTSTART:20181031T080000Z
DTEND:20181031T091500Z
UID:e19892
DTSTAMP:20260421T085111Z
LOCATION:Nancy and Stephen Grand Israel National Center for Personalized Medicine
DESCRIPTION:G-INCPM - Special Seminar - Prof. Ofer Feinerman\, Dept. of Physics of Complex Systems\, Weizmann - "Managing information over multiple organizational scales"
SUMMARY:G-INCPM - Special Seminar - Prof. Ofer Feinerman\, Dept. of Physics of Complex Systems\, Weizmann - "Managing information over multiple organizational scales"
END:VEVENT
END:VCALENDAR