BEGIN:VCALENDAR
VERSION:2.0
PRODID:-//hacksw/handcal//NONSGML v1.0//EN
CALSCALE:GREGORIAN
BEGIN:VEVENT
DTSTART:20181011T081500Z
DTEND:20181011T093000Z
UID:e19950
DTSTAMP:20260419T140646Z
LOCATION:Edna and K.B. Weissman Building of Physical Sciences
DESCRIPTION:Controlling and Exploring Quantum Matter Using Ultracold Atoms in Optical Lattices
SUMMARY:Controlling and Exploring Quantum Matter Using Ultracold Atoms in Optical Lattices
END:VEVENT
END:VCALENDAR