BEGIN:VCALENDAR
VERSION:2.0
PRODID:-//hacksw/handcal//NONSGML v1.0//EN
CALSCALE:GREGORIAN
BEGIN:VEVENT
DTSTART:20181129T081500Z
DTEND:20181129T093000Z
UID:e19956
DTSTAMP:20260421T085129Z
LOCATION:Edna and K.B. Weissman Building of Physical Sciences
DESCRIPTION:Discovery of Topological Materials in a Fusion of Physics and Chemistry
SUMMARY:Discovery of Topological Materials in a Fusion of Physics and Chemistry
END:VEVENT
END:VCALENDAR