BEGIN:VCALENDAR
VERSION:2.0
PRODID:-//hacksw/handcal//NONSGML v1.0//EN
CALSCALE:GREGORIAN
BEGIN:VEVENT
DTSTART:20181206T081500Z
DTEND:20181206T093000Z
UID:e19958
DTSTAMP:20260419T151803Z
LOCATION:Edna and K.B. Weissman Building of Physical Sciences
DESCRIPTION:Physics Colloquium
SUMMARY:Physics Colloquium
END:VEVENT
END:VCALENDAR