BEGIN:VCALENDAR
VERSION:2.0
PRODID:-//hacksw/handcal//NONSGML v1.0//EN
CALSCALE:GREGORIAN
BEGIN:VEVENT
DTSTART:20181014T090000Z
DTEND:20181014T090000Z
UID:e19986
DTSTAMP:20260421T082841Z
LOCATION:Max and Lillian Candiotty Building
DESCRIPTION:PhD Defense Seminar - Rand Arafeh
SUMMARY:PhD Defense Seminar - Rand Arafeh
END:VEVENT
END:VCALENDAR