BEGIN:VCALENDAR
VERSION:2.0
PRODID:-//hacksw/handcal//NONSGML v1.0//EN
CALSCALE:GREGORIAN
BEGIN:VEVENT
DTSTART:20181113T093000Z
DTEND:20181113T093000Z
UID:e20004
DTSTAMP:20260419T134305Z
LOCATION:Gerhard M.J. Schmidt Lecture Hall
DESCRIPTION:Perception and retinal integration of rod and cone signals in primate
SUMMARY:Perception and retinal integration of rod and cone signals in primate
END:VEVENT
END:VCALENDAR