BEGIN:VCALENDAR
VERSION:2.0
PRODID:-//hacksw/handcal//NONSGML v1.0//EN
CALSCALE:GREGORIAN
BEGIN:VEVENT
DTSTART:20181205T070000Z
DTEND:20181205T070000Z
UID:e20014
DTSTAMP:20260419T151807Z
LOCATION:Arthur and Rochelle Belfer Building for Biomedical Research
DESCRIPTION:Developmental Club Series 2018-2019\, special guest seminar
SUMMARY:Developmental Club Series 2018-2019\, special guest seminar
END:VEVENT
END:VCALENDAR