BEGIN:VCALENDAR
VERSION:2.0
PRODID:-//hacksw/handcal//NONSGML v1.0//EN
CALSCALE:GREGORIAN
BEGIN:VEVENT
DTSTART:20181017T081500Z
DTEND:20181017T093000Z
UID:e20018
DTSTAMP:20260419T185422Z
LOCATION:
DESCRIPTION:Machine Learning and Statistics Seminar
SUMMARY:Machine Learning and Statistics Seminar
END:VEVENT
END:VCALENDAR