BEGIN:VCALENDAR
VERSION:2.0
PRODID:-//hacksw/handcal//NONSGML v1.0//EN
CALSCALE:GREGORIAN
BEGIN:VEVENT
DTSTART:20181022T111500Z
DTEND:20181022T111500Z
UID:e20020
DTSTAMP:20260419T185422Z
LOCATION:Edna and K.B. Weissman Building of Physical Sciences
DESCRIPTION:Collective formation of territories in scent-marking animal population
SUMMARY:Collective formation of territories in scent-marking animal population
END:VEVENT
END:VCALENDAR