BEGIN:VCALENDAR
VERSION:2.0
PRODID:-//hacksw/handcal//NONSGML v1.0//EN
CALSCALE:GREGORIAN
BEGIN:VEVENT
DTSTART:20190410T050000Z
DTEND:20190411T050000Z
UID:e20062
DTSTAMP:20260420T190125Z
LOCATION:The David Lopatie Conference Centre
DESCRIPTION:Advanced Electron Microscopy Symposium
SUMMARY:Advanced Electron Microscopy Symposium
END:VEVENT
END:VCALENDAR