BEGIN:VCALENDAR
VERSION:2.0
PRODID:-//hacksw/handcal//NONSGML v1.0//EN
CALSCALE:GREGORIAN
BEGIN:VEVENT
DTSTART:20181028T080000Z
DTEND:20181028T080000Z
UID:e20094
DTSTAMP:20260421T102859Z
LOCATION:Arthur and Rochelle Belfer Building for Biomedical Research
DESCRIPTION:Convergence of hunger and thirst  in the insular cortex
SUMMARY:Convergence of hunger and thirst  in the insular cortex
END:VEVENT
END:VCALENDAR