BEGIN:VCALENDAR
VERSION:2.0
PRODID:-//hacksw/handcal//NONSGML v1.0//EN
CALSCALE:GREGORIAN
BEGIN:VEVENT
DTSTART:20181127T110000Z
DTEND:20181127T120000Z
UID:e20104
DTSTAMP:20260419T140636Z
LOCATION:Helen and Milton A. Kimmelman Building
DESCRIPTION:Bacterial enzymes and mutants for chemoenzymatic synthesis of carbohydrates
SUMMARY:Bacterial enzymes and mutants for chemoenzymatic synthesis of carbohydrates
END:VEVENT
END:VCALENDAR