BEGIN:VCALENDAR
VERSION:2.0
PRODID:-//hacksw/handcal//NONSGML v1.0//EN
CALSCALE:GREGORIAN
BEGIN:VEVENT
DTSTART:20181204T070000Z
DTEND:20181204T080000Z
UID:e20116
DTSTAMP:20260419T185531Z
LOCATION:Nella and Leon Benoziyo Building for Biological Sciences
DESCRIPTION:Co-translational protein folding and quality control\, in health and disease
SUMMARY:Co-translational protein folding and quality control\, in health and disease
END:VEVENT
END:VCALENDAR